BEGIN:VCALENDAR
VERSION:2.0
PRODID:-//CERN//INDICO//EN
BEGIN:VEVENT
SUMMARY:9ª Jornadas Científicas
DTSTART:20260518T080000Z
DTEND:20260522T100000Z
DTSTAMP:20260420T230900Z
UID:indico-event-1@eventos.isa.ao
DESCRIPTION:O conhecimento\, a investigação e o talento\, serão levados
  a maior montra anual de ciências\, do instituto Superior de Angola ‎
 ‎Sob o lema\, "Desafios e Oportunidades para o Desenvolvimento Sustentá
 vel do Icolo e Bengo"‎Um certame aberto à comunidade académica\, inves
 tigadores\, inventores e empreendedores.‎‎Faça a sua inscrição e ap
 resente a sua pesquisa\, invenção ou criatividade\, na maior montra de c
 iências do ISA.\n\nhttps://eventos.isa.ao/event/1/
URL:https://eventos.isa.ao/event/1/
END:VEVENT
END:VCALENDAR
